BEGIN:VCALENDAR
VERSION:2.0
PRODID:-//hacksw/handcal//NONSGML v1.0//EN
BEGIN:VEVENT
SUMMARY:Interclub L'Isle d'Abeau
UID:b69d7641-8afd-4aa3-9464-73738b571eb6
DTSTART:20260321T230000Z
DTEND:20260322T230000Z
LOCATION:Localisation Gymnase Saint Hubert  L'Isle d'Abeau
CATEGORIES:Sportif
STATUS:
DESCRIPTION:<p><strong>Interclub de L'Isle
 d'Abeau</strong></p>
 
 <p>Gymnase Saint Hubert, boulevard Saint
 Hubert, L'Isle d'Abeau</p>
 
 <p>Ouvert aux judokas debutants et
 confirmes</p>
 
 <p> </p>
 
 <p><strong>Horaires des pesees
 :</strong></p>
 
 <p>Baby-judo ne(e)s en 2020-2021 :</p>
 
 <table
 border="1" cellpadding="3"
 cellspacing="0">
 	<tbody>
 		<tr>
 			<td>Toutes les
 categories </td>
 			<td>09h00 a
 09h15</td>
 		</tr>
 	</tbody>
 </table>
 
 <p> </p>
 
 <p>Benjamin(e)s
 ne(e)s en 2014-2015 et Minimes ne(e)s en 2012-2013 :</p>
 
 <table
 border="1" cellpadding="3"
 cellspacing="0">
 	<tbody>
 		<tr>
 			<td>Toutes les
 categories </td>
 			<td>10h00 a
 10h15</td>
 		</tr>
 	</tbody>
 </table>
 
 <p> </p>
 
 <p>Poussin(e)s nes
 en 2016-2017 :</p>
 
 <table border="1" cellpadding="3"
 cellspacing="0">
 	<tbody>
 		<tr>
 			<td>-28 kg</td>
 			<td>13h30 a
 13h45</td>
 		</tr>
 		<tr>
 			<td>+28 kg</td>
 			<td>14h15 a
 14h30</td>
 		</tr>
 	</tbody>
 </table>
 
 <p> </p>
 
 <p>Mini-Poussin(e)s
 ne(e)s en 2018-2019 :</p>
 
 <table border="1" cellpadding="3"
 cellspacing="0">
 	<tbody>
 		<tr>
 			<td>-25 kg</td>
 			<td>15h30 a
 15h45</td>
 		</tr>
 		<tr>
 			<td>+25 kg</td>
 			<td>16h15 a
 16h30</td>
 		</tr>
 	</tbody>
 </table>
 
 <p> </p>
 
 <p>Prix d'entree
 adultes : 2,50 €</p>
 
 <p> </p>
URL;VALUE=URI:https://www.jcni.fr/evenements/2026/03/22/interclub-lisle-dabeau-2425570
END:VEVENT
END:VCALENDAR
